BEGIN:VCALENDAR
VERSION:2.0
PRODID:-//ChamberMaster//Event Calendar 2.0//EN
METHOD:PUBLISH
X-PUBLISHED-TTL:P3D
REFRESH-INTERVAL:P3D
CALSCALE:GREGORIAN
BEGIN:VEVENT
DTSTART:20210623T163000Z
DTEND:20210623T173000Z
X-MICROSOFT-CDO-ALLDAYEVENT:FALSE
SUMMARY:Children Story Time
DESCRIPTION:On the lawn near the library on Illinois Street (weather permitting - alternate location is inside the library)\n\nStories and activities for children\, ages 4-8.
X-ALT-DESC;FMTTYPE=text/html:<p class="date" style="box-sizing: content-box\; margin: 0px 0px 6px\; padding: 0px\; border: 0px\; outline: 0px\; font-weight: bold\; font-size: 12px\; font-family: Lato\; vertical-align: baseline\; color: rgb(34\, 34\, 34)\; background-color: rgb(244\, 244\, 243)\;"><span style="box-sizing: content-box\; margin: 0px\; padding: 0px\; border: 0px\; font-weight: inherit\; font-style: inherit\; font-family: inherit\; vertical-align: baseline\; outline: 0px\;">On the lawn near the library on Illinois Street (weather permitting - alternate location is inside the library)</span></p>\n\n<p style="box-sizing: content-box\; margin: 0px 0px 6px\; padding: 0px\; border: 0px\; outline: 0px\; font-size: 12px\; font-family: Lato\; vertical-align: baseline\; color: rgb(34\, 34\, 34)\; background-color: rgb(244\, 244\, 243)\;">Stories and activities for children\, ages 4-8.</p>\n
LOCATION:
UID:e.2381.27992
SEQUENCE:3
DTSTAMP:20260424T011431Z
URL:https://business.spearfishchamber.org/events/details/children-story-time-27992
END:VEVENT

END:VCALENDAR
