BEGIN:VCALENDAR
VERSION:2.0
PRODID:-//ChamberMaster//Event Calendar 2.0//EN
METHOD:PUBLISH
X-PUBLISHED-TTL:P3D
REFRESH-INTERVAL:P3D
CALSCALE:GREGORIAN
BEGIN:VEVENT
DTSTART:20230727T220000Z
DTEND:20230728T003000Z
X-MICROSOFT-CDO-ALLDAYEVENT:FALSE
SUMMARY:Chamber Gone Fishin' Mixer
DESCRIPTION:Join us for the July Gone Fishin' Mixer with The Clubhouse of Spearfish!\n\n\n\nGone Fishin' Mixers are great ways to share information about your business and network with other business members. Take advantage of an opportunity to meet your business neighbors and future customers in an informal atmosphere.\n\n\n\nRemember you cash for our 50/50 ticket drawing! 6 for $5 or $1 each.
X-ALT-DESC;FMTTYPE=text/html:Join us for the July Gone Fishin&#39\; Mixer with The Clubhouse of Spearfish!<br />\n<br />\nGone Fishin&#39\; Mixers are great ways to share information about your business and network with other business members. Take advantage of an opportunity to meet your business neighbors and future customers in an informal atmosphere.<br />\n<br />\nRemember you cash for our 50/50 ticket drawing! 6 for $5 or $1 each.
LOCATION:The Clubhouse of Spearfish 3540 E. Colorado Blvd. Spearfish\, SD
UID:e.2381.29782
SEQUENCE:3
DTSTAMP:20260420T203956Z
URL:https://business.spearfishchamber.org/events/details/chamber-gone-fishin-mixer-29782
END:VEVENT

END:VCALENDAR
