BEGIN:VCALENDAR
VERSION:2.0
PRODID:-//ChamberMaster//Event Calendar 2.0//EN
METHOD:PUBLISH
X-PUBLISHED-TTL:P3D
REFRESH-INTERVAL:P3D
CALSCALE:GREGORIAN
BEGIN:VEVENT
DTSTART:20230712T140000Z
DTEND:20230712T150000Z
X-MICROSOFT-CDO-ALLDAYEVENT:FALSE
SUMMARY:Chamber Coffee Connection
DESCRIPTION:Join us for the July Coffee Connection with D.C. Booth Historic National Fish Hatchery & Archives!\n\n\n\nCoffee Connections are held the first Wednesday of the month. Coffee Connections offer an opportunity to visit member businesses over coffee and treats. They are a great way to share information about your business\, network with other businesses\, and meet your future customers.
X-ALT-DESC;FMTTYPE=text/html:Join us for the July Coffee Connection with D.C. Booth Historic National Fish Hatchery &amp\; Archives!<br />\n<br />\nCoffee Connections are held the first Wednesday of the month. Coffee Connections offer an opportunity to visit member businesses over coffee and treats. They are a great way to share information about your business\, network with other businesses\, and meet your future customers.
LOCATION:D.C. Booth Historic National Fish Hatchery & Archives 423 Hatchery Circle Spearfish\, SD
UID:e.2381.29394
SEQUENCE:3
DTSTAMP:20260420T204224Z
URL:https://business.spearfishchamber.org/events/details/chamber-coffee-connection-07-12-2023-29394
END:VEVENT

END:VCALENDAR
