BEGIN:VCALENDAR
VERSION:2.0
PRODID:-//ChamberMaster//Event Calendar 2.0//EN
METHOD:PUBLISH
X-PUBLISHED-TTL:P3D
REFRESH-INTERVAL:P3D
CALSCALE:GREGORIAN
BEGIN:VEVENT
DTSTART:20260507T143000Z
DTEND:20260507T163000Z
X-MICROSOFT-CDO-ALLDAYEVENT:FALSE
SUMMARY:Caramel Rolls & Coffee
DESCRIPTION:Caramel Rolls & Coffee Social. Open to the public\, invite your friends!
X-ALT-DESC;FMTTYPE=text/html:Caramel Rolls &amp\; Coffee Social. Open to the public\, invite your friends!
LOCATION:Spearfish Senior Center 1306 N 10th St Spearfish\, SD
UID:e.2381.30745
SEQUENCE:3
DTSTAMP:20260420T225413Z
URL:https://business.spearfishchamber.org/events/details/caramel-rolls-coffee-05-07-2026-30745
END:VEVENT

END:VCALENDAR
