BEGIN:VCALENDAR
VERSION:2.0
PRODID:-//ChamberMaster//Event Calendar 2.0//EN
METHOD:PUBLISH
X-PUBLISHED-TTL:P3D
REFRESH-INTERVAL:P3D
CALSCALE:GREGORIAN
BEGIN:VEVENT
DTSTART:20230622T000000Z
DTEND:20230622T023000Z
X-MICROSOFT-CDO-ALLDAYEVENT:FALSE
SUMMARY:Canyon Acoustic Series
DESCRIPTION:Spread the Tunes brings back the beloved Summer Acoustic Series with free music\, local food vendors\, arts & crafts\, beer & wine!\n\nJoin us on Wednesdays at 6 PM in the Spearfish City Park!\n\n \n\n\n	\n		\n			JUNE 14TH\n			Stillhouse Junkies\n		\n		\n			JUNE 21ST\n			The Fretliners\n		\n		\n			JUNE 28TH\n			My Second Rodeo\n		\n		\n			JULY 5TH\n			Chain Station\n		\n		\n			JULY 12TH\n			Mayghen & the Bird Watcher\n		\n		\n			JULY 19TH\n			Pine Hill Haints\n		\n		\n			JULY 26TH\n			Moon Shroom\n		\n		\n			AUGUST 2ND\n			Charlie Parr
X-ALT-DESC;FMTTYPE=text/html:<p style="box-sizing: inherit\; margin: 0px 0px 1rem\; padding: 0px\; font-size: 18px\; line-height: 28px\; text-rendering: optimizelegibility\; font-family: Roboto\, sans-serif\; color: rgb(115\, 115\, 115)\; background-color: rgb(247\, 247\, 247)\;">Spread the Tunes brings back the beloved Summer Acoustic Series with free music\, local food vendors\, arts &amp\; crafts\, beer &amp\; wine!</p>\n\n<p style="box-sizing: inherit\; margin: 0px 0px 1rem\; padding: 0px\; font-size: 18px\; line-height: 28px\; text-rendering: optimizelegibility\; font-family: Roboto\, sans-serif\; color: rgb(115\, 115\, 115)\; background-color: rgb(247\, 247\, 247)\;">Join us on Wednesdays at 6 PM in the Spearfish City Park!<br />\n&nbsp\;</p>\n\n<table class="unstriped" style="box-sizing: inherit\; width: 810px\; margin-bottom: 1rem\; border-radius: 0px\; border-left: 6px solid rgb(84\, 183\, 154)\; border-spacing: 0px\; color: rgb(115\, 115\, 115)\; font-family: Roboto\, sans-serif\; font-size: 16px\; background-color: rgb(247\, 247\, 247)\;">\n	<tbody style="box-sizing: inherit\; border: 1px solid rgb(241\, 241\, 241)\; background-color: rgb(254\, 254\, 254)\;">\n		<tr style="box-sizing: inherit\; border-bottom: 1px solid rgb(241\, 241\, 241)\;">\n			<td class="heading" style="box-sizing: inherit\; margin: 0px\; padding: 0.5rem 0.625rem 0.625rem\; border-top: none\; border-right: none\; border-bottom: 2px solid rgb(247\, 247\, 247)\; border-left: none\; border-image: initial\; font-weight: 700\; color: rgb(73\, 79\, 80)\; text-transform: uppercase\; font-size: 14px\; width: 241.188px\;">JUNE 14TH</td>\n			<td style="box-sizing: inherit\; margin: 0px\; padding: 0.5rem 0.625rem 0.625rem\; border-top: none\; border-right: none\; border-bottom: 2px solid rgb(247\, 247\, 247)\; border-left: none\; border-image: initial\;">Stillhouse Junkies</td>\n		</tr>\n		<tr style="box-sizing: inherit\; border-bottom: 1px solid rgb(241\, 241\, 241)\;">\n			<td class="heading" style="box-sizing: inherit\; margin: 0px\; padding: 0.5rem 0.625rem 0.625rem\; border-top: none\; border-right: none\; border-bottom: 2px solid rgb(247\, 247\, 247)\; border-left: none\; border-image: initial\; font-weight: 700\; color: rgb(73\, 79\, 80)\; text-transform: uppercase\; font-size: 14px\; width: 241.188px\;">JUNE 21ST</td>\n			<td style="box-sizing: inherit\; margin: 0px\; padding: 0.5rem 0.625rem 0.625rem\; border-top: none\; border-right: none\; border-bottom: 2px solid rgb(247\, 247\, 247)\; border-left: none\; border-image: initial\;">The Fretliners</td>\n		</tr>\n		<tr style="box-sizing: inherit\; border-bottom: 1px solid rgb(241\, 241\, 241)\;">\n			<td class="heading" style="box-sizing: inherit\; margin: 0px\; padding: 0.5rem 0.625rem 0.625rem\; border-top: none\; border-right: none\; border-bottom: 2px solid rgb(247\, 247\, 247)\; border-left: none\; border-image: initial\; font-weight: 700\; color: rgb(73\, 79\, 80)\; text-transform: uppercase\; font-size: 14px\; width: 241.188px\;">JUNE 28TH</td>\n			<td style="box-sizing: inherit\; margin: 0px\; padding: 0.5rem 0.625rem 0.625rem\; border-top: none\; border-right: none\; border-bottom: 2px solid rgb(247\, 247\, 247)\; border-left: none\; border-image: initial\;">My Second Rodeo</td>\n		</tr>\n		<tr style="box-sizing: inherit\; border-bottom: 1px solid rgb(241\, 241\, 241)\;">\n			<td class="heading" style="box-sizing: inherit\; margin: 0px\; padding: 0.5rem 0.625rem 0.625rem\; border-top: none\; border-right: none\; border-bottom: 2px solid rgb(247\, 247\, 247)\; border-left: none\; border-image: initial\; font-weight: 700\; color: rgb(73\, 79\, 80)\; text-transform: uppercase\; font-size: 14px\; width: 241.188px\;">JULY 5TH</td>\n			<td style="box-sizing: inherit\; margin: 0px\; padding: 0.5rem 0.625rem 0.625rem\; border-top: none\; border-right: none\; border-bottom: 2px solid rgb(247\, 247\, 247)\; border-left: none\; border-image: initial\;">Chain Station</td>\n		</tr>\n		<tr style="box-sizing: inherit\; border-bottom: 1px solid rgb(241\, 241\, 241)\;">\n			<td class="heading" style="box-sizing: inherit\; margin: 0px\; padding: 0.5rem 0.625rem 0.625rem\; border-top: none\; border-right: none\; border-bottom: 2px solid rgb(247\, 247\, 247)\; border-left: none\; border-image: initial\; font-weight: 700\; color: rgb(73\, 79\, 80)\; text-transform: uppercase\; font-size: 14px\; width: 241.188px\;">JULY 12TH</td>\n			<td style="box-sizing: inherit\; margin: 0px\; padding: 0.5rem 0.625rem 0.625rem\; border-top: none\; border-right: none\; border-bottom: 2px solid rgb(247\, 247\, 247)\; border-left: none\; border-image: initial\;">Mayghen &amp\; the Bird Watcher</td>\n		</tr>\n		<tr style="box-sizing: inherit\; border-bottom: 1px solid rgb(241\, 241\, 241)\;">\n			<td class="heading" style="box-sizing: inherit\; margin: 0px\; padding: 0.5rem 0.625rem 0.625rem\; border-top: none\; border-right: none\; border-bottom: 2px solid rgb(247\, 247\, 247)\; border-left: none\; border-image: initial\; font-weight: 700\; color: rgb(73\, 79\, 80)\; text-transform: uppercase\; font-size: 14px\; width: 241.188px\;">JULY 19TH</td>\n			<td style="box-sizing: inherit\; margin: 0px\; padding: 0.5rem 0.625rem 0.625rem\; border-top: none\; border-right: none\; border-bottom: 2px solid rgb(247\, 247\, 247)\; border-left: none\; border-image: initial\;">Pine Hill Haints</td>\n		</tr>\n		<tr style="box-sizing: inherit\; border-bottom: 1px solid rgb(241\, 241\, 241)\;">\n			<td class="heading" style="box-sizing: inherit\; margin: 0px\; padding: 0.5rem 0.625rem 0.625rem\; border-top: none\; border-right: none\; border-bottom: 2px solid rgb(247\, 247\, 247)\; border-left: none\; border-image: initial\; font-weight: 700\; color: rgb(73\, 79\, 80)\; text-transform: uppercase\; font-size: 14px\; width: 241.188px\;">JULY 26TH</td>\n			<td style="box-sizing: inherit\; margin: 0px\; padding: 0.5rem 0.625rem 0.625rem\; border-top: none\; border-right: none\; border-bottom: 2px solid rgb(247\, 247\, 247)\; border-left: none\; border-image: initial\;">Moon Shroom</td>\n		</tr>\n		<tr style="box-sizing: inherit\; border-bottom: 1px solid rgb(241\, 241\, 241)\;">\n			<td class="heading" style="box-sizing: inherit\; margin: 0px\; padding: 0.5rem 0.625rem 0.625rem\; border-top: none\; border-right: none\; border-bottom: 2px solid rgb(247\, 247\, 247)\; border-left: none\; border-image: initial\; font-weight: 700\; color: rgb(73\, 79\, 80)\; text-transform: uppercase\; font-size: 14px\; width: 241.188px\;">AUGUST 2ND</td>\n			<td style="box-sizing: inherit\; margin: 0px\; padding: 0.5rem 0.625rem 0.625rem\; border-top: none\; border-right: none\; border-bottom: 2px solid rgb(247\, 247\, 247)\; border-left: none\; border-image: initial\;">Charlie Parr</td>\n		</tr>\n	</tbody>\n</table>\n
LOCATION:
UID:e.2381.29795
SEQUENCE:3
DTSTAMP:20260421T012111Z
URL:https://business.spearfishchamber.org/events/details/canyon-acoustic-series-29795
END:VEVENT

END:VCALENDAR
