BEGIN:VCALENDAR
VERSION:2.0
PRODID:-//ChamberMaster//Event Calendar 2.0//EN
METHOD:PUBLISH
X-PUBLISHED-TTL:P3D
REFRESH-INTERVAL:P3D
CALSCALE:GREGORIAN
BEGIN:VEVENT
DTSTART:20240731T230000Z
DTEND:20240801T013000Z
X-MICROSOFT-CDO-ALLDAYEVENT:FALSE
SUMMARY:Canyon Acoustic Series 2024
DESCRIPTION:Armchair Boogie\n\n50/50 Spearfish Skate Park
X-ALT-DESC;FMTTYPE=text/html:Armchair Boogie<br />\n50/50 Spearfish Skate Park
LOCATION:Spearfish City Park
UID:e.2381.30206
SEQUENCE:3
DTSTAMP:20260424T102446Z
URL:https://business.spearfishchamber.org/events/details/canyon-acoustic-series-2024-07-31-2024-30206
END:VEVENT

END:VCALENDAR
