BEGIN:VCALENDAR
VERSION:2.0
PRODID:-//ChamberMaster//Event Calendar 2.0//EN
METHOD:PUBLISH
X-PUBLISHED-TTL:P3D
REFRESH-INTERVAL:P3D
CALSCALE:GREGORIAN
BEGIN:VEVENT
DTSTART:20260117T190000Z
DTEND:20260117T210000Z
X-MICROSOFT-CDO-ALLDAYEVENT:FALSE
SUMMARY:Book Signing & Celebration
DESCRIPTION:Come and meet the author and get your book signed\, or pick one up at Henry's Books in Spearfish. Every purchase of "My Journey to Freedom" directly supports Amazing Grace Ministries\, a faith-based nonprofit dedicated to helping single mothers navigate seasons of crisis. So that they can raise healthy children\, proceeds from this book help provide emotional support\, spiritual encouragement\, and practical resources for families facing hardship. What began as a personal story of God's redeeming grace now extends hope beyond these pages offering strength\, stability\, and renewed faith to those who need it most.
X-ALT-DESC;FMTTYPE=text/html:Come and meet the author and get your book signed\, or pick one up at Henry&rsquo\;s Books in Spearfish. Every purchase of &quot\;My Journey to Freedom&quot\; directly supports Amazing Grace Ministries\, a faith-based nonprofit dedicated to helping single mothers navigate seasons of crisis. So that they can raise healthy children\, proceeds from this book help provide emotional support\, spiritual encouragement\, and practical resources for families facing hardship. What began as a personal story of God&rsquo\;s redeeming grace now extends hope beyond these pages&mdash\;offering strength\, stability\, and renewed faith to those who need it most.
LOCATION:Henry's Books 111 E. Hudson St. Spearfish\, South Dakota 57783
UID:e.2381.30631
SEQUENCE:3
DTSTAMP:20260425T105703Z
URL:https://business.spearfishchamber.org/events/details/book-signing-celebration-30631
END:VEVENT

END:VCALENDAR
