BEGIN:VCALENDAR
VERSION:2.0
PRODID:-//ChamberMaster//Event Calendar 2.0//EN
METHOD:PUBLISH
X-PUBLISHED-TTL:P3D
REFRESH-INTERVAL:P3D
CALSCALE:GREGORIAN
BEGIN:VEVENT
DTSTART:20260427T170000Z
DTEND:20260427T180000Z
X-MICROSOFT-CDO-ALLDAYEVENT:FALSE
SUMMARY:Body in Balance: Fall Prevention Seminar
DESCRIPTION:Body in Balance: A Fall Prevention Seminar on Monday\, April 27th 11AM-12PM. Join us for a lunch-and-learn presentation on fall prevention with Dr. Britt Wickett of Elevate Physical Therapy. He will cover fall statistics and safety precautions\, and offer you exercise recommendations based on your individual risk. Please RSVP with Sam by calling her at 605.340.0098 or emailing her at samantha.wager@hmecare.net. Located at the Spearfish Senior Center 1306 N 10th St. Spearfish\, SD. Sponsored by Peaceful Pines. Open to the public.
X-ALT-DESC;FMTTYPE=text/html:&nbsp\;Body in Balance: A Fall Prevention Seminar on Monday\, April 27th 11AM-12PM. Join us for a lunch-and-learn presentation on fall prevention with Dr. Britt Wickett of Elevate Physical Therapy. He will cover fall statistics and safety precautions\, and offer you exercise recommendations based on your individual risk. Please RSVP with Sam by calling her at 605.340.0098 or emailing her at samantha.wager@hmecare.net. Located at the Spearfish Senior Center 1306 N 10th St. Spearfish\, SD. Sponsored by Peaceful Pines. Open to the public.
LOCATION:Spearfish Senior Center 1306 N 10th St Spearfish\, SD 57783
UID:e.2381.30753
SEQUENCE:3
DTSTAMP:20260420T172032Z
URL:https://business.spearfishchamber.org/events/details/body-in-balance-fall-prevention-seminar-30753
END:VEVENT

END:VCALENDAR
