BEGIN:VCALENDAR
VERSION:2.0
PRODID:-//ChamberMaster//Event Calendar 2.0//EN
METHOD:PUBLISH
X-PUBLISHED-TTL:P3D
REFRESH-INTERVAL:P3D
CALSCALE:GREGORIAN
BEGIN:VEVENT
DTSTART:20230715T000000Z
DTEND:20230715T040000Z
X-MICROSOFT-CDO-ALLDAYEVENT:FALSE
SUMMARY:Bingo VFW Post 5860
DESCRIPTION:BINGO IS BACK! That said we all need to still be cautious and protect each other. What does that mean? You will have to social distance during bingo by sitting 6 ft apart\, bring sanitizer with you if you have it\, wear a mask if you have one and just respect each others space. If you are sick stay home. If you were exposed recently stay home. Hopefully we can all become immune to this virus and we can get back to normal. Look forward to seeing you all at a distance
X-ALT-DESC;FMTTYPE=text/html:<span style="color: rgb(29\, 33\, 41)\; font-family: Helvetica\, Arial\, sans-serif\; font-size: 14px\; background-color: rgb(255\, 255\, 255)\;">BINGO IS BACK! That said we all need to still be cautious and protect each other. What does that mean? You will have to social distance during bingo by sitting 6 ft apart\, bring sanitizer with you if you have it\, wear a mask if you have one and just respect each others space. If you are sick stay home. If you were exposed recently stay home. Hopefully we can all become immune to this virus and we can get back to normal. Look forward to seeing you all at a distance</span><span class="_5mfr" style="margin: 0px 1px\; font-family: Helvetica\, Arial\, sans-serif\; color: rgb(29\, 33\, 41)\; font-size: 14px\; background-color: rgb(255\, 255\, 255)\;"><span class="_6qdm" style="background-repeat: no-repeat\; background-size: contain\; color: transparent\; display: inline-block\; text-shadow: none\; vertical-align: text-bottom\; font-family: inherit\; height: 16px\; width: 16px\; font-size: 16px\; background-image: url(&quot\;https://static.xx.fbcdn.net/images/emoji.php/v9/t4f/1/16/1f601.png&quot\;)\;">&#128513\;</span></span>
LOCATION:VFW Post 5860\, 3102 fairgrounds Loop\, Spearfish SD
UID:e.2381.23882
SEQUENCE:3
DTSTAMP:20260421T012742Z
URL:https://business.spearfishchamber.org/events/details/bingo-vfw-post-5860-07-14-2023-23882
END:VEVENT

END:VCALENDAR
