BEGIN:VCALENDAR
VERSION:2.0
PRODID:-//ChamberMaster//Event Calendar 2.0//EN
METHOD:PUBLISH
X-PUBLISHED-TTL:P3D
REFRESH-INTERVAL:P3D
CALSCALE:GREGORIAN
BEGIN:VEVENT
DTSTART:20230717T150000Z
DTEND:20230717T200000Z
X-MICROSOFT-CDO-ALLDAYEVENT:FALSE
SUMMARY:BHSU Yellow Jacket Classic - Public Event
DESCRIPTION:Join us at The Golf Club at Devils Tower. Black Hills State athletics has opened registration for its 2023 Devils Tower Yellow Jacket Golf Classic presented by White's Canyon Motors. The golf classic will feature 60 two-person teams and all proceeds will benefit student-athlete scholarships at BHSU. Sponsorship opportunities are available. Registration https://bit.ly/bhsugolf
X-ALT-DESC;FMTTYPE=text/html:Join us at The Golf Club at Devils Tower. Black Hills State athletics has opened registration for its 2023 Devils Tower Yellow Jacket Golf Classic presented by White&#39\;s Canyon Motors. The golf classic will feature 60 two-person teams and all proceeds will benefit student-athlete scholarships at BHSU. Sponsorship opportunities are available. Registration <a href="https://bit.ly/bhsugolf">https://bit.ly/bhsugolf</a>
LOCATION:The Golf Club at Devils Tower 77 Tower View Drive Hulett\, Wyoming
UID:e.2381.29715
SEQUENCE:3
DTSTAMP:20260421T012307Z
URL:https://business.spearfishchamber.org/events/details/bhsu-yellow-jacket-classic-public-event-29715
END:VEVENT

END:VCALENDAR
