BEGIN:VCALENDAR
VERSION:2.0
PRODID:-//ChamberMaster//Event Calendar 2.0//EN
METHOD:PUBLISH
X-PUBLISHED-TTL:P3D
REFRESH-INTERVAL:P3D
CALSCALE:GREGORIAN
BEGIN:VEVENT
DTSTART:20240229T160000Z
DTEND:20240229T190000Z
X-MICROSOFT-CDO-ALLDAYEVENT:FALSE
SUMMARY:BHSU Teacher Fair
DESCRIPTION:Date: Thursday\, February 29\, 2024\; 9 AM - 12 PM MST\n\n\n\nLocation: BHSU Field House\, Donald E. Young Sports and Fitness Center\, BHSU\, Spearfish\, SD\n\n\n\nCost: $225+\n\n\n\nRegistration: https://app.joinhandshake.com/career_fairs/39922/employer_preview?token=pjcgQgW6hmet3y4qqir7ro8Q7u2cnoTpK9lknZFgAmmXGw3XT269Cg\n\n\n\nDescription: Register today for the 2024 BHSU Teacher Fair. This fair will bring school districts and our upcoming education graduates together. Education students are required to attend this event. Registration includes 1-8 ft table\, 2 chairs\, parking pass\, and Wi-Fi access.
X-ALT-DESC;FMTTYPE=text/html:Date: Thursday\, February 29\, 2024\; 9 AM - 12 PM MST<br />\n<br />\nLocation: BHSU Field House\, Donald E. Young Sports and Fitness Center\, BHSU\, Spearfish\, SD<br />\n<br />\nCost: $225+<br />\n<br />\nRegistration:&nbsp\;<a data-saferedirecturl="https://www.google.com/url?q=https://app.joinhandshake.com/career_fairs/39922/employer_preview?token%3DpjcgQgW6hmet3y4qqir7ro8Q7u2cnoTpK9lknZFgAmmXGw3XT269Cg&amp\;source=gmail&amp\;ust=1692205150166000&amp\;usg=AOvVaw3WdzHE76AzTfb_jcFDvOuA" href="https://app.joinhandshake.com/career_fairs/39922/employer_preview?token=pjcgQgW6hmet3y4qqir7ro8Q7u2cnoTpK9lknZFgAmmXGw3XT269Cg" style="color:rgb(17\, 85\, 204)\;" target="_blank">https://app.joinhandshake.com/<wbr />career_fairs/39922/employer_<wbr />preview?token=<wbr />pjcgQgW6hmet3y4qqir7ro8Q7u2cno<wbr />TpK9lknZFgAmmXGw3XT269Cg</a><br />\n<br />\nDescription: Register today for the 2024 BHSU Teacher Fair. This fair will bring school districts and our upcoming education graduates together. Education students are required to attend this event. Registration includes 1-8 ft table\, 2 chairs\, parking pass\, and Wi-Fi access.
LOCATION:
UID:e.2381.29827
SEQUENCE:3
DTSTAMP:20260422T132447Z
URL:https://business.spearfishchamber.org/events/details/bhsu-teacher-fair-29827
END:VEVENT

END:VCALENDAR
