BEGIN:VCALENDAR
VERSION:2.0
PRODID:-//ChamberMaster//Event Calendar 2.0//EN
METHOD:PUBLISH
X-PUBLISHED-TTL:P3D
REFRESH-INTERVAL:P3D
CALSCALE:GREGORIAN
BEGIN:VEVENT
DTSTART:20240422T000000Z
DTEND:20240422T000000Z
X-MICROSOFT-CDO-ALLDAYEVENT:FALSE
SUMMARY:BHSU Spring Band Concert at
DESCRIPTION:The Black Hills State University Music Department is announcing its spring concert schedule. All events are free and open to the public. Performances take place in Meier Hall.
X-ALT-DESC;FMTTYPE=text/html:<span style="color: rgb(34\, 34\, 34)\; font-family: &quot\;times new roman&quot\;\, serif\; font-size: small\;">&nbsp\;The Black Hills State University Music Department is announcing its spring concert schedule. All events are free and open to the public. Performances take place in Meier Hall.</span>
LOCATION:
UID:e.2381.30146
SEQUENCE:3
DTSTAMP:20260420T150245Z
URL:https://business.spearfishchamber.org/events/details/bhsu-spring-band-concert-at-30146
END:VEVENT

END:VCALENDAR
