BEGIN:VCALENDAR
VERSION:2.0
PRODID:-//ChamberMaster//Event Calendar 2.0//EN
METHOD:PUBLISH
X-PUBLISHED-TTL:P3D
REFRESH-INTERVAL:P3D
CALSCALE:GREGORIAN
BEGIN:VEVENT
DTSTART:20240303T010000Z
DTEND:20240303T010000Z
X-MICROSOFT-CDO-ALLDAYEVENT:FALSE
SUMMARY:BHSU Spring Band Concert
DESCRIPTION:The Black Hills State University Music Department is announcing its spring concert schedule. All events are free and open to the public. Performances take place in Meier Hall.
X-ALT-DESC;FMTTYPE=text/html:<span style="color: rgb(34\, 34\, 34)\; font-family: &quot\;times new roman&quot\;\, serif\; font-size: small\;">The Black Hills State University Music Department is announcing its spring concert schedule. All events are free and open to the public. Performances take place in Meier Hall.&nbsp\;</span>
LOCATION:
UID:e.2381.30139
SEQUENCE:3
DTSTAMP:20260420T054012Z
URL:https://business.spearfishchamber.org/events/details/bhsu-spring-band-concert-30139
END:VEVENT

END:VCALENDAR
