BEGIN:VCALENDAR
VERSION:2.0
PRODID:-//ChamberMaster//Event Calendar 2.0//EN
METHOD:PUBLISH
X-PUBLISHED-TTL:P3D
REFRESH-INTERVAL:P3D
CALSCALE:GREGORIAN
BEGIN:VEVENT
DTSTART:20260408T000000Z
DTEND:20260408T030000Z
X-MICROSOFT-CDO-ALLDAYEVENT:FALSE
SUMMARY:Besler's Cadillac Ranch - Swing Dance
DESCRIPTION:April 7th Swing Dance Lessons 6-7 with open dancing 7-9 ($5 cover)
X-ALT-DESC;FMTTYPE=text/html:<span style="color: rgb(0\, 0\, 0)\; font-family: verdana\, sans-serif\; font-size: small\;">April 7th Swing Dance Lessons 6-7 with open dancing 7-9 ($5 cover)</span>
LOCATION:Besler's Cadillac Ranch 19314 Helmer Rd\, St. Onge\, SD 5779
UID:e.2381.30747
SEQUENCE:3
DTSTAMP:20260420T171831Z
URL:https://business.spearfishchamber.org/events/details/besler-s-cadillac-ranch-swing-dance-30747
END:VEVENT

END:VCALENDAR
