BEGIN:VCALENDAR
VERSION:2.0
PRODID:-//ChamberMaster//Event Calendar 2.0//EN
METHOD:PUBLISH
X-PUBLISHED-TTL:P3D
REFRESH-INTERVAL:P3D
CALSCALE:GREGORIAN
BEGIN:VEVENT
DTSTART:20230712T180000Z
DTEND:20230712T190000Z
X-MICROSOFT-CDO-ALLDAYEVENT:FALSE
SUMMARY:Bellman Brown Bag Series
DESCRIPTION:Explore ideas\, history\, literature\, art\, and culture with this free lecture series. Check out the website link for updated monthly topics.
X-ALT-DESC;FMTTYPE=text/html:Explore ideas\, history\, literature\, art\, and culture with this free lecture series. Check out the website link for updated monthly topics.&nbsp\;
LOCATION:Matthews Opera House
UID:e.2381.28206
SEQUENCE:3
DTSTAMP:20260421T013903Z
URL:https://business.spearfishchamber.org/events/details/bellman-brown-bag-series-07-12-2023-28206
END:VEVENT

END:VCALENDAR
