BEGIN:VCALENDAR
VERSION:2.0
PRODID:-//ChamberMaster//Event Calendar 2.0//EN
METHOD:PUBLISH
X-PUBLISHED-TTL:P3D
REFRESH-INTERVAL:P3D
CALSCALE:GREGORIAN
BEGIN:VEVENT
DTSTART:20230730T190000Z
DTEND:20230730T230000Z
X-MICROSOFT-CDO-ALLDAYEVENT:FALSE
SUMMARY:Baked Goods and Good Brews Community Fundraiser
DESCRIPTION:Pie and baked goods community fundraiser at Crow Peak Brewing with live music and live auction.
X-ALT-DESC;FMTTYPE=text/html:Pie and baked goods community fundraiser at Crow Peak Brewing with live music and live auction.
LOCATION:Crow Peak Brewing
UID:e.2381.29813
SEQUENCE:3
DTSTAMP:20260420T205350Z
URL:https://business.spearfishchamber.org/events/details/baked-goods-and-good-brews-community-fundraiser-29813
END:VEVENT

END:VCALENDAR
