BEGIN:VCALENDAR
VERSION:2.0
PRODID:-//ChamberMaster//Event Calendar 2.0//EN
METHOD:PUBLISH
X-PUBLISHED-TTL:P3D
REFRESH-INTERVAL:P3D
CALSCALE:GREGORIAN
BEGIN:VEVENT
DTSTART:20240308T000000Z
DTEND:20240308T030000Z
X-MICROSOFT-CDO-ALLDAYEVENT:FALSE
SUMMARY:Annual Chamber Banquet & Awards
DESCRIPTION:105TH ANNUAL SPEARFISH CHAMBER BANQUET & AWARDS\n\n\n\nJoin us as we celebrate business success throughout the Spearfish community! Our theme this year is celebrate St. Patrick's Day.\n\n\n\nEach year the Chamber Board of Directors honors businesses and community members with a variety of meaningful and deserving awards. They honor businesses for their innovation\, celebrate their vision\, and publicly appreciate their contributions to the quality of life in our community and at their workplace. The businesses and individuals honored have a positive impact on the Spearfish community from volunteerism to financial donations to protecting the places we love and cherish.\n\n\n\n2024 AWARDS\n\nSpirit of Spearfish\n\nLifetime Achievement\n\nCommunity Impact\n\nMembership Choice\n\n\n\nTICKETS $40 PER PERSON\n\n*must make menu choice when registering\, choices below\n\n\n\nYOUR EVENING\n\n4:00 Silent Auction (Bid Beacon app)\n\n5:00-6:30 Social Hour\, Cash Bar\n\n6:30  Dinner\n\n7:00 Program\n\n\n\nMENU CHOICES\n\nBeef - slow-roasted roast beef with demi-glace with roasted red potatoes\, and green beans amandine\n\nPork - smoked pork loin with BBQ Sauce\, with roasted red potatoes\, and green beans amandine\n\nChicken - chicken cordon blue with white wine cream sauce\, roasted red potato\, and green bean amandine\n\n    *Each choice is served with a dinner salad\, dinner roll\, and coffee\n\n\n\nTHANK YOU TO OUR BANQUET SPONSORS\n\nBlack Hills Energy\, McGough Construction\,  Bluepeak\, Monument Health\, Platinum Car Brokers\, Quik Signs\, Sundance State Bank\, Wolff's Plumbing & Heating\, Security First Bank\, The Blind Guy of the Black Hills\, NeighborWorks DHR\, Landmark Realty and Development
X-ALT-DESC;FMTTYPE=text/html:<p><span style="font-family:arial\;"><span style="color: rgb(0\, 128\, 0)\;"><span style="font-size: 14px\;"><strong>105TH ANNUAL SPEARFISH CHAMBER BANQUET &amp\; AWARDS</strong></span></span><br />\n<br />\nJoin us as we celebrate business success throughout the Spearfish community!&nbsp\;Our theme this year is celebrate St. Patrick&#39\;s Day.<br />\n<br />\nEach year the Chamber Board of Directors honors businesses and community members with a variety of meaningful and deserving awards. They honor businesses for their innovation\, celebrate their vision\, and publicly appreciate their contributions to the quality of life in our community and at their workplace. The businesses and individuals honored have a positive impact on the Spearfish community from volunteerism to financial donations to protecting the places we love and cherish.<br />\n<br />\n<span style="color: rgb(0\, 128\, 0)\;"><strong>2024&nbsp\;AWARDS</strong></span><br />\nSpirit of Spearfish<br />\nLifetime Achievement<br />\nCommunity Impact<br />\nMembership Choice<br />\n<br />\n<span style="color: rgb(0\, 128\, 0)\;"><strong>TICKETS $40 PER PERSON</strong></span><br />\n<span style="font-size: 11px\;"><em>*must make menu choice when registering\, choices below</em></span><br />\n<br />\n<span style="color: rgb(0\, 128\, 0)\;"><b>YOUR EVENING</b></span><br />\n4:00 Silent Auction<em>&nbsp\;(Bid Beacon app)</em><br />\n5:00-6:30 Social Hour\, Cash Bar<br />\n6:30&nbsp\; Dinner<br />\n7:00 Program<br />\n<br />\n<span style="color: rgb(0\, 128\, 0)\;"><strong>MENU CHOICES</strong></span></span><br />\n<strong>Beef</strong>&nbsp\;- slow-roasted roast beef with demi-glace&nbsp\;with roasted red&nbsp\;potatoes\, and green beans amandine<br />\n<strong>Pork</strong> - smoked pork loin with BBQ Sauce\,&nbsp\;with roasted red&nbsp\;potatoes\, and green beans amandine<br />\n<strong>Chicken</strong>&nbsp\;- chicken cordon blue with white wine cream sauce\, roasted red potato\, and green bean amandine<br />\n<span style="font-family:arial\;"><span style="font-size:12px\;">&nbsp\; &nbsp\; *<em>Each choice is served with a dinner salad\, dinner roll\, and coffee</em></span><br />\n<br />\n<span style="color: rgb(0\, 128\, 0)\;"><b>THANK YOU TO OUR BANQUET SPONSORS</b></span><br />\nBlack Hills Energy\, McGough Construction\,&nbsp\; Bluepeak\, Monument Health\, Platinum Car Brokers\, Quik Signs\, Sundance State Bank\, Wolff&#39\;s Plumbing &amp\; Heating\, Security First Bank\, The Blind Guy of the Black Hills\, NeighborWorks DHR\, Landmark Realty and Development</span></p>\n
LOCATION:Spearfish Holiday Inn Convention Center
UID:e.2381.30110
SEQUENCE:3
DTSTAMP:20260420T054702Z
URL:https://business.spearfishchamber.org/events/details/annual-chamber-banquet-awards-30110
END:VEVENT

END:VCALENDAR
