BEGIN:VCALENDAR
VERSION:2.0
PRODID:-//ChamberMaster//Event Calendar 2.0//EN
METHOD:PUBLISH
X-PUBLISHED-TTL:P3D
REFRESH-INTERVAL:P3D
CALSCALE:GREGORIAN
BEGIN:VEVENT
DTSTART:20240307T020000Z
DTEND:20240307T020000Z
X-MICROSOFT-CDO-ALLDAYEVENT:FALSE
SUMMARY:American Legion Meeting
DESCRIPTION:Spearfish American Legion #164 meets the first Wednesday of every month at 7:00 PM in the lower level of the Spearfish VFW building. Some gather at 6:15 PM for a complimentary dinner. All veterans are welcome.
X-ALT-DESC;FMTTYPE=text/html:Spearfish American Legion #164 meets the first Wednesday of every month at 7:00 PM in the lower level of the Spearfish VFW building. Some gather at 6:15 PM for a complimentary dinner. All veterans are welcome.
LOCATION:Lower level of the Spearfish VFW.
UID:e.2381.29767
SEQUENCE:3
DTSTAMP:20260420T055804Z
URL:https://business.spearfishchamber.org/events/details/american-legion-meeting-03-06-2024-29767
END:VEVENT

END:VCALENDAR
