BEGIN:VCALENDAR
VERSION:2.0
PRODID:-//ChamberMaster//Event Calendar 2.0//EN
METHOD:PUBLISH
X-PUBLISHED-TTL:P3D
REFRESH-INTERVAL:P3D
CALSCALE:GREGORIAN
BEGIN:VEVENT
DTSTART:20240716T223000Z
DTEND:20240716T223000Z
X-MICROSOFT-CDO-ALLDAYEVENT:FALSE
SUMMARY:"A Writer's Life of Adventure"
DESCRIPTION:Grace Balloch Memorial Library in Spearfish will host "A Writer's Life of Adventure" with Bruce Junek in the Library Meeting Room on Tuesday\, July 16\, at 5:30 p.m. as part of the "Adventure Begins at your Library" summer reading program. This event is designed for older teens and adults.\n\n\nGrace Balloch Memorial Library\n\n625 N. Fifth St. \n\nSpearfish\, SD  57783\n\n(605) 642-1330
X-ALT-DESC;FMTTYPE=text/html:<div style="font-family: Calibri\, Helvetica\, sans-serif\; font-size: 12pt\; color: rgb(0\, 0\, 0)\;">Grace Balloch Memorial Library in Spearfish will host &quot\;A Writer&#39\;s Life of Adventure&quot\; with Bruce Junek in the Library Meeting Room on Tuesday\, July 16\, at 5:30 p.m. as part of the &quot\;Adventure Begins at your Library&quot\; summer reading program. This event is designed for older teens and adults.</div>\n\n<div>\n<div style="font-family: Cambria\, Georgia\, serif\; font-size: 11pt\; color: rgb(0\, 0\, 0)\;">Grace Balloch Memorial Library</div>\n\n<div style="font-family: Cambria\, Georgia\, serif\; font-size: 11pt\; color: rgb(0\, 0\, 0)\;">625 N. Fifth St.&#8203\;</div>\n\n<div style="font-family: Cambria\, Georgia\, serif\; font-size: 11pt\; color: rgb(0\, 0\, 0)\;">Spearfish\, SD&nbsp\; 57783</div>\n\n<div style="font-family: Cambria\, Georgia\, serif\; font-size: 11pt\; color: rgb(0\, 0\, 0)\;">(605) 642-1330</div>\n</div>\n
LOCATION:
UID:e.2381.30243
SEQUENCE:3
DTSTAMP:20260424T100739Z
URL:https://business.spearfishchamber.org/events/details/a-writer-s-life-of-adventure-30243
END:VEVENT

END:VCALENDAR
