BEGIN:VCALENDAR
VERSION:2.0
PRODID:-//ChamberMaster//Event Calendar 2.0//EN
METHOD:PUBLISH
X-PUBLISHED-TTL:P3D
REFRESH-INTERVAL:P3D
CALSCALE:GREGORIAN
BEGIN:VEVENT
DTSTART:20231105T010000Z
DTEND:20231105T030000Z
X-MICROSOFT-CDO-ALLDAYEVENT:FALSE
SUMMARY:A Preacher in the Patch and Friends
DESCRIPTION:A Preacher in the Patch and Friends is a part of To The Cross Ministries\, a non-profit\, tax-exempt\, corporation. Visit www.PreacherInThePatch.com/About to learn more!\n\n\n\nA Preacher in the Patch and Friends will be in Spearfish at the Tretheway Pavilion November 2-5! Featuring...\n\n- The Evitt Session\n\n- Riley Dakota & The Sweet Crude Band\n\n- Canada's Double Portion (GMAC Live Band of the Year) from North Battleford Saskatchewan\n\n- Brent Clark Ramsey "With an Elvis Presley Voice" from Minneapolis Minnesota\n\n\n\nFree Admission | New Program Each Night | Refreshments Served | All Ages Welcome!
X-ALT-DESC;FMTTYPE=text/html:A Preacher in the Patch and Friends is a part of To The Cross Ministries\, a non-profit\, tax-exempt\, corporation. Visit <a href="https://www.preacherinthepatch.com/about">www.PreacherInThePatch.com/About</a> to learn more!<br />\n<br />\nA Preacher in the Patch and Friends will be in Spearfish at the Tretheway Pavilion November 2-5! Featuring...<br />\n-&nbsp\;The Evitt Session<br />\n-&nbsp\;Riley Dakota &amp\; The Sweet Crude Band<br />\n- Canada&#39\;s Double Portion (GMAC Live Band of the Year) from North Battleford Saskatchewan<br />\n- Brent Clark Ramsey &quot\;With an Elvis Presley Voice&quot\; from Minneapolis Minnesota<br />\n<br />\nFree Admission |&nbsp\;New Program Each Night | Refreshments Served | All Ages Welcome!
LOCATION:Tretheway Pavilion 115 S Canyon Street Spearfish\, SD
UID:e.2381.29859
SEQUENCE:3
DTSTAMP:20260420T055801Z
URL:https://business.spearfishchamber.org/events/details/a-preacher-in-the-patch-and-friends-11-04-2023-29859
END:VEVENT

END:VCALENDAR
