BEGIN:VCALENDAR
VERSION:2.0
PRODID:-//ChamberMaster//Event Calendar 2.0//EN
METHOD:PUBLISH
X-PUBLISHED-TTL:P3D
REFRESH-INTERVAL:P3D
CALSCALE:GREGORIAN
BEGIN:VEVENT
DTSTART:20241130T230000Z
DTEND:20241201T010000Z
X-MICROSOFT-CDO-ALLDAYEVENT:FALSE
SUMMARY:A Magical Medora Christmas Show
DESCRIPTION:A Magical Medora Christmas Show\n\nSaturday\, November 30\, 2024\n\n4:00 - 6:00pm \n\nSpearfish High School Auditorium\n\n \n\nMedora's hit Christmas show tour returns to Spearfish this holiday season!\n\nA Magical Medora Christmas brings a family-friendly holiday show to the Spearfish High School on Saturday\, November 30 at 4:00pm. Landmark Realty & Development Co. have co-sponsored the event allowing for ALL of the show proceeds to benefit the Monument Health Foundation's Spearfish Hospital Expansion Capital Campaign. \n\n"We are so honored that the Medora Christmas show\, and our co-sponsors selected this performance to benefit our Spearfish Hospital capital campaign project. Its a great example of how our local community has found creative ways to support this exciting chapter for the Spearfish Hospital." said Hans Nelson\, Director of the Monument Health Foundation. "I have always enjoyed visiting Medora\, ND to see their incredible show and am thrilled they will be in the Black Hills to entertain us all locally."\n\nA Magical Medora Christmas features the incredible talents of the Medora Musical Show performers.  Throughout the show Bill Sorensen\, Wild West magician\, will wow you with magic true-to-the-season and lighthearted humor the whole family will love. For more information and tickets visit MedoraChristmas.com. \n\n\n\n\n\nThis Event is proudly sponsored by: Spearfish Motors & Landmark Realty and Development.\n\n\n\n \nTicket Sales Link:\n\nhttps://www.etix.com/ticket/p/30494883/a-magical-medora-christmas-spearfishsd--a-magical-medora-christmas-presented-by-bill-sorensen-productions
X-ALT-DESC;FMTTYPE=text/html:<div style="font-family: Aptos\, Aptos_EmbeddedFont\, Aptos_MSFontService\, Calibri\, Helvetica\, sans-serif\; font-size: 12pt\; color: rgb(0\, 0\, 0)\;"><b>A Magical Medora Christmas Show</b></div>\n\n<div style="font-family: Aptos\, Aptos_EmbeddedFont\, Aptos_MSFontService\, Calibri\, Helvetica\, sans-serif\; font-size: 12pt\; color: rgb(0\, 0\, 0)\;"><b>Saturday\, November 30\, 2024</b></div>\n\n<div style="font-family: Aptos\, Aptos_EmbeddedFont\, Aptos_MSFontService\, Calibri\, Helvetica\, sans-serif\; font-size: 12pt\; color: rgb(0\, 0\, 0)\;"><b>4:00 - 6:00pm&nbsp\;</b></div>\n\n<div style="font-family: Aptos\, Aptos_EmbeddedFont\, Aptos_MSFontService\, Calibri\, Helvetica\, sans-serif\; font-size: 12pt\; color: rgb(0\, 0\, 0)\;"><b>Spearfish High School Auditorium</b><br />\n&nbsp\;</div>\n\n<div style="direction: ltr\; margin: 0px\; font-family: Aptos\, Aptos_EmbeddedFont\, Aptos_MSFontService\, Calibri\, Helvetica\, sans-serif\; font-size: 12pt\; color: rgb(0\, 0\, 0)\;"><b>Medora&rsquo\;s hit&nbsp\;Christmas&nbsp\;show tour returns to Spearfish this holiday season!</b></div>\n\n<div style="direction: ltr\; margin: 0px\; font-family: Aptos\, Aptos_EmbeddedFont\, Aptos_MSFontService\, Calibri\, Helvetica\, sans-serif\; font-size: 12pt\; color: rgb(0\, 0\, 0)\;">A Magical&nbsp\;Medora&nbsp\;Christmas&nbsp\;<wbr />brings a family-friendly holiday show to the Spearfish High School on Saturday\, November 30 at 4:00pm. Landmark Realty &amp\; Development Co. have co-sponsored the event allowing for ALL of the show proceeds to benefit the Monument Health Foundation&#39\;s Spearfish Hospital Expansion Capital Campaign.&nbsp\;</div>\n\n<div style="direction: ltr\; margin: 0px\; font-family: Aptos\, Aptos_EmbeddedFont\, Aptos_MSFontService\, Calibri\, Helvetica\, sans-serif\; font-size: 12pt\; color: rgb(0\, 0\, 0)\;">&quot\;We are so honored that the&nbsp\;Medora&nbsp\;Christmas&nbsp\;show\, and our co-sponsors selected this performance to benefit our Spearfish Hospital capital campaign project. Its a great example of how our local community has found creative ways&nbsp\;to support this exciting chapter for the Spearfish Hospital.&quot\; said Hans Nelson\, Director of the Monument Health Foundation. &quot\;I have always enjoyed visiting&nbsp\;Medora\, ND to see their incredible show and am thrilled they will be in the Black Hills to entertain us all locally.&quot\;</div>\n\n<div style="direction: ltr\; margin: 0px\; font-family: Aptos\, Aptos_EmbeddedFont\, Aptos_MSFontService\, Calibri\, Helvetica\, sans-serif\; font-size: 12pt\; color: rgb(0\, 0\, 0)\;">A Magical&nbsp\;Medora&nbsp\;Christmas&nbsp\;<wbr />features the incredible talents of the&nbsp\;Medora&nbsp\;Musical Show performers.&nbsp\; Throughout the show Bill Sorensen\, Wild West magician\, will wow you with magic true-to-the-season and lighthearted humor the whole family will love. For more information and tickets visit&nbsp\;MedoraChristmas.com.&nbsp\;<br />\n<br />\n<br />\nThis Event is proudly sponsored by:&nbsp\;<span style="color: rgb(0\, 0\, 0)\; font-family: Aptos\, Aptos_EmbeddedFont\, Aptos_MSFontService\, Calibri\, Helvetica\, sans-serif\; font-size: 16px\;">Spearfish Motors &amp\; Landmark Realty and Development.</span><br />\n<br />\n&nbsp\;\n<div style="font-family: Aptos\, Aptos_EmbeddedFont\, Aptos_MSFontService\, Calibri\, Helvetica\, sans-serif\; font-size: 12pt\; color: rgb(0\, 0\, 0)\;">Ticket Sales Link:</div>\n\n<div style="font-family: Aptos\, Aptos_EmbeddedFont\, Aptos_MSFontService\, Calibri\, Helvetica\, sans-serif\; font-size: 12pt\; color: rgb(0\, 0\, 0)\;"><a data-saferedirecturl="https://www.google.com/url?q=https://www.etix.com/ticket/p/30494883/a-magical-medora-christmas-spearfishsd--a-magical-medora-christmas-presented-by-bill-sorensen-productions&amp\;source=gmail&amp\;ust=1729957919561000&amp\;usg=AOvVaw2Y2BGgPFT2h4BRF58HQnus" href="https://www.etix.com/ticket/p/30494883/a-magical-medora-christmas-spearfishsd--a-magical-medora-christmas-presented-by-bill-sorensen-productions" id="m_-6484702491423294639m_-7374786993605825569LPlnk356751" style="color: rgb(17\, 85\, 204)\;" target="_blank">https://www.etix.com/ticket/p/<wbr />30494883/a-magical-medora-<wbr />christmas-spearfishsd--a-<wbr />magical-medora-christmas-<wbr />presented-by-bill-sorensen-<wbr />productions</a></div>\n</div>\n
LOCATION:
UID:e.2381.30286
SEQUENCE:3
DTSTAMP:20260422T092401Z
URL:https://business.spearfishchamber.org/events/details/a-magical-medora-christmas-show-30286
END:VEVENT

END:VCALENDAR
