BEGIN:VCALENDAR
VERSION:2.0
PRODID:-//ChamberMaster//Event Calendar 2.0//EN
METHOD:PUBLISH
X-PUBLISHED-TTL:P3D
REFRESH-INTERVAL:P3D
CALSCALE:GREGORIAN
BEGIN:VEVENT
DTSTART:20230708T120000Z
DTEND:20230708T210000Z
X-MICROSOFT-CDO-ALLDAYEVENT:FALSE
SUMMARY:37th Annual Spearfish Canyon Half Marathon & 5K
DESCRIPTION:The 37th Annual Spearfish Canyon Half Marathon/5K\n\n\n\nThis event is an annual fundraiser\, which benefits abused and neglected children through the Northern Hills Area CASA Program.\n\nJoin us and be a hero for the CASA Cause!\n\n\n\nVIRTUAL and IN-PERSON Race options for 2023!\n\n\n\nThe HALF MARATHON is a road race down beautiful Spearfish Canyon Scenic Byway featuring limestone canyon walls blanketed with coniferous and deciduous trees along Spearfish Creek. Runners begin in Savoy at 7 AM and follow Highway 14A\, Spearfish Canyon Scenic Byway\, to the Spearfish City Park.   Cost $70  -  $80 day prior/at event\n\n-All Participants receive a participation medal. Virtual Participants will be mailed a medal for completion of the race if a time is reported.\n\n-Top 3 finishers receive place medals in the following age categories: under 12\, 12-19\, 20-29\, 30-39\, 40-49\, 50-59\, 60-69\, 70+\n\n-All registered by June 23 receive a race shirt/tank.\n\n-The Half Marathon course is a certified course (USATF Certificate SD16003BK) therefore participants must run on the left side of the road or will be DISQUALIFIED.\n\n \n\nThe 5K starts and end in the Spearfish City Park. Runners follow the road through the campground and connect with the bike path to the canyon parking lot\, then head back down the scenic byway to reconnect with the bike path to end in the park. Cost $35 -  $40 day prior/at event\n\n-Top 3 finishers receive place medals in the following age categories: under 12\, 12-19\, 20-29\, 30-39\, 40-49\, 50-59\, 60-69\, 70+\n\n-All registered by June 26 receive a race shirt/tank.\n\n\n\nVIRTUAL race participants will not receive place medals for the Half or 5K.\n\n\n\nT-Shirts are only ordered for those pre-registered by 6/23/2023\n\nMENS SIZES-Dri-fit TSHIRTS\, WOMENS SIZES-RAZORBACK TANKS\, YOUTH SIZES-TSHIRTS\n\n\n\nShirts and half marathon participant medals will be mailed out to virtual participants following the event date.\n\n\n\nFor more details on the race\, host hotel\, COVID protocals\, etc\, please visit: FAQs\n\n\n\nVIRTUAL race participants will be mailed (to their address entered during registration) a medal(Half) and shirt two weeks following the actual event (July 8). VIRTUAL race participants will not receive place medals for the Half or 5K.
X-ALT-DESC;FMTTYPE=text/html:<p style="box-sizing: border-box\; margin: 0px 0px 30px\; color: rgb(0\, 0\, 0)\; font-family: &quot\;Helvetica Neue&quot\;\, Helvetica\, Arial\, sans-serif\; font-size: 14px\;"><span style="box-sizing: border-box\; font-weight: 700\;"><span style="box-sizing: border-box\; font-family: Arial\;"><span style="box-sizing: border-box\; font-size: 32px\;">The 37th Annual Spearfish Canyon Half Marathon/5K</span></span></span><br style="box-sizing: border-box\;" />\n<br style="box-sizing: border-box\;" />\n<span style="box-sizing: border-box\; font-family: Arial\;"><em style="box-sizing: border-box\;"><span style="box-sizing: border-box\; font-size: 24px\; color: rgb(192\, 0\, 0)\;">This event is an annual fundraiser\, which benefits abused and neglected children through the&nbsp\;Northern Hills Area CASA Program.</span></em><br style="box-sizing: border-box\;" />\n<span style="box-sizing: border-box\; font-size: 24px\; color: rgb(192\, 0\, 0)\;"><span style="box-sizing: border-box\; font-weight: 700\;">Join us and be a hero for the CASA Cause!</span></span><br style="box-sizing: border-box\;" />\n<br style="box-sizing: border-box\;" />\n<span style="box-sizing: border-box\; font-size: 36px\; color: rgb(0\, 0\, 255)\;">VIRTUAL and IN-PERSON Race options for 2023!</span></span><br style="box-sizing: border-box\;" />\n<br style="box-sizing: border-box\;" />\n<span style="box-sizing: border-box\; font-family: arial\, helvetica\, sans-serif\;"><span style="box-sizing: border-box\; font-size: 18px\;">The&nbsp\;<span style="box-sizing: border-box\; font-weight: 700\;">HALF MARATHON</span>&nbsp\;is a road race down beautiful Spearfish Canyon Scenic Byway featuring limestone canyon walls blanketed with coniferous and deciduous trees along Spearfish Creek.&nbsp\;</span><span style="box-sizing: border-box\; font-size: 18px\;">Runners begin in Savoy at 7 AM and follow Highway 14A\, Spearfish Canyon Scenic Byway\, to the Spearfish City Park.&nbsp\; &nbsp\;<span style="box-sizing: border-box\; font-weight: 700\;">Cost $70&nbsp\; -&nbsp\; $80 day prior/at event</span><br style="box-sizing: border-box\;" />\n<span style="box-sizing: border-box\;">-</span></span>All Participants receive a participation medal. Virtual Participants will be mailed a medal for completion of the race if a time is reported.</span><br style="box-sizing: border-box\;" />\n<span style="box-sizing: border-box\; font-family: arial\, helvetica\, sans-serif\;">-Top 3 finishers receive place medals in the following age categories: under 12\, 12-19\, 20-29\, 30-39\, 40-49\, 50-59\, 60-69\, 70+</span><br style="box-sizing: border-box\;" />\n<span style="box-sizing: border-box\; font-family: arial\, helvetica\, sans-serif\;">-All registered by June 23 receive a race shirt/tank.<br style="box-sizing: border-box\;" />\n-The Half Marathon course is a certified course (USATF Certificate SD16003BK) therefore participants must run on the left side of the road or will be DISQUALIFIED.</span><br style="box-sizing: border-box\;" />\n&nbsp\;</p>\n\n<p style="box-sizing: border-box\; margin: 0px 0px 30px\; color: rgb(0\, 0\, 0)\; font-family: &quot\;Helvetica Neue&quot\;\, Helvetica\, Arial\, sans-serif\; font-size: 14px\;"><span style="box-sizing: border-box\; font-family: Arial\; font-size: 18px\;">The&nbsp\;<span style="box-sizing: border-box\; font-weight: 700\;">5K</span>&nbsp\;starts and end in the Spearfish City Park. Runners follow the road through the campground and connect with the bike path to the canyon parking lot\, then head back down the scenic byway to reconnect with the bike path to end in the park.&nbsp\;<span style="box-sizing: border-box\; font-weight: 700\;">Cost $35 -&nbsp\; $40 day prior/at event</span><br style="box-sizing: border-box\;" />\n<span style="box-sizing: border-box\; font-family: arial\, helvetica\, sans-serif\; font-size: 14px\;">-Top 3 finishers receive place medals in the following age categories: under 12\, 12-19\, 20-29\, 30-39\, 40-49\, 50-59\, 60-69\, 70+</span><br style="box-sizing: border-box\;" />\n<span style="box-sizing: border-box\; font-family: arial\, helvetica\, sans-serif\; font-size: 14px\;">-All registered by June 26 receive a race shirt/tank.</span><br style="box-sizing: border-box\;" />\n<br style="box-sizing: border-box\;" />\nVIRTUAL race participants will not receive place medals for the Half or 5K.<br style="box-sizing: border-box\;" />\n<br style="box-sizing: border-box\;" />\n<span style="box-sizing: border-box\; font-weight: 700\;">T-Shirts are only ordered for those pre-registered by 6/23/2023</span><br style="box-sizing: border-box\;" />\nMENS SIZES-Dri-fit TSHIRTS\, WOMENS SIZES-RAZORBACK TANKS\, YOUTH SIZES-TSHIRTS<br style="box-sizing: border-box\;" />\n<br style="box-sizing: border-box\;" />\n<em style="box-sizing: border-box\;">Shirts and half marathon participant medals will be mailed out to virtual participants following the event date.</em><br style="box-sizing: border-box\;" />\n<br style="box-sizing: border-box\;" />\n<span style="box-sizing: border-box\; font-weight: 700\;">For more details on the race\, host hotel\, COVID protocals\, etc\, please visit:&nbsp\;<a href="https://www.nhcasa.com/1576-2/faqs/" rel="noopener" style="box-sizing: border-box\; background: 0px 0px\; text-decoration-line: none\; color: rgb(128\, 28\, 7)\; transition: all 0.2s ease 0s\;" target="_blank">FAQs</a><br style="box-sizing: border-box\;" />\n<br style="box-sizing: border-box\;" />\nVIRTUAL race participants will be mailed (to their address entered during registration) a medal(Half) and shirt two weeks following the actual event (July 8). VIRTUAL race participants will not receive place medals for the Half or 5K.</span></span></p>\n
LOCATION:Spearfish City Park
UID:e.2381.29771
SEQUENCE:3
DTSTAMP:20260420T204140Z
URL:https://business.spearfishchamber.org/events/details/37th-annual-spearfish-canyon-half-marathon-5k-29771
END:VEVENT

END:VCALENDAR
