BEGIN:VCALENDAR
VERSION:2.0
PRODID:-//ChamberMaster//Event Calendar 2.0//EN
METHOD:PUBLISH
X-PUBLISHED-TTL:P3D
REFRESH-INTERVAL:P3D
CALSCALE:GREGORIAN
BEGIN:VEVENT
DTSTART:20230707T000000Z
DTEND:20230707T013000Z
X-MICROSOFT-CDO-ALLDAYEVENT:FALSE
SUMMARY:16+ Pickup Basketball
DESCRIPTION:Grab your friends and join in on a 16+ pick up basketball game!\n\nEvery Thursday night April 6 - August 10.\n\nOpen court\, no registration needed.\n\nMust have a day pass or membership.
X-ALT-DESC;FMTTYPE=text/html:Grab your friends and join in on a 16+ pick up basketball game!<br />\nEvery Thursday night April 6 - August 10.<br />\nOpen court\, no registration needed.<br />\nMust have a day pass or membership.
LOCATION:Spearfish Rec & Aquatics Center 122 Recreation Ln.
UID:e.2381.29709
SEQUENCE:3
DTSTAMP:20260420T205805Z
URL:https://business.spearfishchamber.org/events/details/16-pickup-basketball-07-06-2023-29709
END:VEVENT

END:VCALENDAR
